BEGIN:VCALENDAR
VERSION:2.0
PRODID:-//Homepage der Blue Knights XVI Germany e.V. - ECPv6.15.20//NONSGML v1.0//EN
CALSCALE:GREGORIAN
METHOD:PUBLISH
X-WR-CALNAME:Homepage der Blue Knights XVI Germany e.V.
X-ORIGINAL-URL:https://blueknights-ger-xvi.de
X-WR-CALDESC:Veranstaltungen für Homepage der Blue Knights XVI Germany e.V.
REFRESH-INTERVAL;VALUE=DURATION:PT1H
X-Robots-Tag:noindex
X-PUBLISHED-TTL:PT1H
BEGIN:VTIMEZONE
TZID:UTC
BEGIN:STANDARD
TZOFFSETFROM:+0000
TZOFFSETTO:+0000
TZNAME:UTC
DTSTART:20250101T000000
END:STANDARD
END:VTIMEZONE
BEGIN:VEVENT
DTSTART;VALUE=DATE:20260813
DTEND;VALUE=DATE:20260817
DTSTAMP:20260423T163428
CREATED:20260125T221205Z
LAST-MODIFIED:20260125T221205Z
UID:2768-1786579200-1786924799@blueknights-ger-xvi.de
SUMMARY:Blue Knights Sweden I 35th Anniversary
DESCRIPTION:Wer ohnehin kurz in Schweden zu tun hat\, schaut am besten bei der 35-Jahrfeier von Schweden I vorbei. Und alle anderen haben einen wunderbaren Urlaub im Land der Elche!
URL:https://blueknights-ger-xvi.de/event/blue-knights-sweden-i-35th-anniversary/
LOCATION:Schweden 35 2026\, Mullsjö
ATTACH;FMTTYPE=application/pdf:https://blueknights-ger-xvi.de/wp-content/uploads/2026/01/Inbjudan_jubileum_2026_DE.pdf
END:VEVENT
BEGIN:VEVENT
DTSTART;TZID=UTC:20260813T180000
DTEND;TZID=UTC:20260813T190000
DTSTAMP:20260423T163428
CREATED:20260125T225937Z
LAST-MODIFIED:20260125T225937Z
UID:2798-1786644000-1786647600@blueknights-ger-xvi.de
SUMMARY:Augustammtisch
DESCRIPTION:Im August sind die “Hundstage” – Grund genug\, dass wir uns treffen\, wenn schon die Hunde es nicht tun!
URL:https://blueknights-ger-xvi.de/event/augustammtisch/
LOCATION:IPA Essen
END:VEVENT
BEGIN:VEVENT
DTSTART;VALUE=DATE:20260821
DTEND;VALUE=DATE:20260824
DTSTAMP:20260423T163428
CREATED:20260125T220844Z
LAST-MODIFIED:20260125T220844Z
UID:2765-1787270400-1787529599@blueknights-ger-xvi.de
SUMMARY:Meeting BK Luxembourg 2026
DESCRIPTION:Die Luxemburger laden im August zu unvergleichbaren Ausfahrten in die Eifel ein – da sind wir doch dabei\, oder? \nHier näheres zur Buchung: \nHier nun einige Informationen Betreff der Anmeldung. \nPreise. \nØ  2x Übernachtung + 2x Frühstück + 2x Abendessen = 200\,- € \nØ  Freitagsübernachtung mit Abendessen und Frühstück = 100\,- € \nØ  Samstagübernachtung mit Abendessen und Frühstück = 120\,- € \nØ  Nur Abendessen: (Anmeldung erforderlich) \n\nFreitag = 25\, – €\nSamstag = 50\, – €\n\nØ  Übernachtung für Kinder: \n\n0 – 2 Jahre gratis\n3 – 12 Jahre 35€ pro Nacht\n\nØ  (im Preis enthalten ist ein Spendenobolus). \nØ  Bettwäsche ist im Preis inbegriffen. Handtücher sind selbst mitzubringen. \n➢    Für die Anmeldung verwendet bitte das Anmeldeformular. Dieses ist über https://forms.gle/X6pveRGy8X5LMtcA7  erreichbar. \n➢    Nach der Anmeldung erhaltet ihr eine Reservierungsnummer zugesandt.\nDiese Nummer ist für das Treffen und die Modalitäten (bei der Überweisung vermerken) sehr wichtig. \n➢    Eure Anmeldung wird mit der Überweisung verbindlich. \n➢    Der Gesamtbetrag ist bis spätestens zum 01.07.2026 an das Konto\, welches in der Anmeldebestätigung aufgeführt ist\, zu überweisen.\nBitte habt dafür Verständnis\, dass wir Reservierungen erst nach Zahlungseingang bestätigen können. \n➢    Mit der Anmeldung und Zahlung des Kostenbeitrages erklären sie sich mit den AGBs und Datenschutz der Blue Knights Luxembourg 1 einverstanden. \n➢    Stornierungen / Absagen (bitte per E-Mail an: office@blueknights.lu) \n 
URL:https://blueknights-ger-xvi.de/event/meeting-bk-luxembourg-2026/
ATTACH;FMTTYPE=image/jpeg:https://blueknights-ger-xvi.de/wp-content/uploads/2026/01/Flyer-Meeting-2026-BK-Lux.jpg
END:VEVENT
BEGIN:VEVENT
DTSTART;VALUE=DATE:20260821
DTEND;VALUE=DATE:20260824
DTSTAMP:20260423T163428
CREATED:20260217T223456Z
LAST-MODIFIED:20260217T223456Z
UID:2836-1787270400-1787529599@blueknights-ger-xvi.de
SUMMARY:Oktoberrock 2026
DESCRIPTION:Wie jedes Jahr findet in Hessen der Oktoberrock statt – da zieht es einen zum Saisonabschluss doch hin\, oder?
URL:https://blueknights-ger-xvi.de/event/oktoberrock_2026/
CATEGORIES:Clubtreffen
ATTACH;FMTTYPE=image/jpeg:https://blueknights-ger-xvi.de/wp-content/uploads/2026/02/Oktoberrock26.jpg
END:VEVENT
END:VCALENDAR