BEGIN:VCALENDAR
VERSION:2.0
PRODID:-//Homepage der Blue Knights XVI Germany e.V. - ECPv6.15.20//NONSGML v1.0//EN
CALSCALE:GREGORIAN
METHOD:PUBLISH
X-WR-CALNAME:Homepage der Blue Knights XVI Germany e.V.
X-ORIGINAL-URL:https://blueknights-ger-xvi.de
X-WR-CALDESC:Veranstaltungen für Homepage der Blue Knights XVI Germany e.V.
REFRESH-INTERVAL;VALUE=DURATION:PT1H
X-Robots-Tag:noindex
X-PUBLISHED-TTL:PT1H
BEGIN:VTIMEZONE
TZID:UTC
BEGIN:STANDARD
TZOFFSETFROM:+0000
TZOFFSETTO:+0000
TZNAME:UTC
DTSTART:20250101T000000
END:STANDARD
END:VTIMEZONE
BEGIN:VEVENT
DTSTART;TZID=UTC:20260910T180000
DTEND;TZID=UTC:20260910T190000
DTSTAMP:20260423T093038
CREATED:20260125T230045Z
LAST-MODIFIED:20260125T230045Z
UID:2800-1789063200-1789066800@blueknights-ger-xvi.de
SUMMARY:Septemberstammtisch
DESCRIPTION:Der Septemberstammtisch kollidiert klassisch mit unserer Abschlussfahrt – vielleicht finden sich aber dennoch die einen oder anderen\, die zuhause bleiben!
URL:https://blueknights-ger-xvi.de/event/septemberstammtisch-2/
LOCATION:IPA Essen
END:VEVENT
BEGIN:VEVENT
DTSTART;VALUE=DATE:20260913
DTEND;VALUE=DATE:20260914
DTSTAMP:20260423T093038
CREATED:20260202T221551Z
LAST-MODIFIED:20260202T221551Z
UID:2821-1789257600-1789343999@blueknights-ger-xvi.de
SUMMARY:Kindertrikefahrt 2026
DESCRIPTION:Die Kindertrikefahrt steht an – wer teilnehmen will\, ist natürlich gerne eingeladen!
URL:https://blueknights-ger-xvi.de/event/kindertrikefahrt-2026/
END:VEVENT
BEGIN:VEVENT
DTSTART;VALUE=DATE:20260918
DTEND;VALUE=DATE:20260921
DTSTAMP:20260423T093038
CREATED:20260125T222312Z
LAST-MODIFIED:20260125T224159Z
UID:2774-1789689600-1789948799@blueknights-ger-xvi.de
SUMMARY:Meeting Germany 2/Germany 13
DESCRIPTION:Der Schwarzwald heisst so\, weil es da so dunkel ist – aber nicht\, wenn man die wunderschönen Serpentinen rauffährt und auf den Gipfeln fährt! Dazu laden uns Germany2/Germany 13 ein\, und weils das Wochenende nach unserer Abschlussfahrt ist: das wäre doch was\, um vorbei zu kommen\, oder? \nNäheres entnehmt ihr dem Flyer!
URL:https://blueknights-ger-xvi.de/event/meeting-germany-2-germany-13/
ATTACH;FMTTYPE=application/pdf:https://blueknights-ger-xvi.de/wp-content/uploads/2026/01/Invitation_english-version.pdf
END:VEVENT
BEGIN:VEVENT
DTSTART;TZID=UTC:20261008T180000
DTEND;TZID=UTC:20261008T190000
DTSTAMP:20260423T093038
CREATED:20260125T230137Z
LAST-MODIFIED:20260125T230137Z
UID:2802-1791482400-1791486000@blueknights-ger-xvi.de
SUMMARY:Oktoberstammtisch
DESCRIPTION:Der Oktober ist der Monat der Ernte – und wir treffen uns\, um sie einzufahren!
URL:https://blueknights-ger-xvi.de/event/oktoberstammtisch-2/
LOCATION:IPA Essen
END:VEVENT
BEGIN:VEVENT
DTSTART;TZID=UTC:20261112T180000
DTEND;TZID=UTC:20261112T190000
DTSTAMP:20260423T093038
CREATED:20260125T230301Z
LAST-MODIFIED:20260125T230301Z
UID:2804-1794506400-1794510000@blueknights-ger-xvi.de
SUMMARY:Novemberstammtisch
DESCRIPTION:Ist es kalt und grau – wir treffen uns dennoch! Kommt zum Stammtisch\, heller wird es in diesem Monat nicht.
URL:https://blueknights-ger-xvi.de/event/novemberstammtisch-2/
LOCATION:IPA Essen
END:VEVENT
BEGIN:VEVENT
DTSTART;TZID=UTC:20261210T180000
DTEND;TZID=UTC:20261210T190000
DTSTAMP:20260423T093038
CREATED:20260125T230418Z
LAST-MODIFIED:20260125T230418Z
UID:2806-1796925600-1796929200@blueknights-ger-xvi.de
SUMMARY:Dezemberstammtisch
DESCRIPTION:Weihnachten steht vor der Tür – und neben unserer Weihnachtsfeier ist der Stammtisch die zweite Pflichtveranstaltung in diesem Monat.
URL:https://blueknights-ger-xvi.de/event/dezemberstammtisch-2/
LOCATION:IPA Essen
END:VEVENT
END:VCALENDAR