BEGIN:VCALENDAR
VERSION:2.0
PRODID:-//Homepage der Blue Knights XVI Germany e.V. - ECPv6.15.20//NONSGML v1.0//EN
CALSCALE:GREGORIAN
METHOD:PUBLISH
X-WR-CALNAME:Homepage der Blue Knights XVI Germany e.V.
X-ORIGINAL-URL:https://blueknights-ger-xvi.de
X-WR-CALDESC:Veranstaltungen für Homepage der Blue Knights XVI Germany e.V.
REFRESH-INTERVAL;VALUE=DURATION:PT1H
X-Robots-Tag:noindex
X-PUBLISHED-TTL:PT1H
BEGIN:VTIMEZONE
TZID:UTC
BEGIN:STANDARD
TZOFFSETFROM:+0000
TZOFFSETTO:+0000
TZNAME:UTC
DTSTART:20240101T000000
END:STANDARD
END:VTIMEZONE
BEGIN:VEVENT
DTSTART;VALUE=DATE:20260418
DTEND;VALUE=DATE:20260420
DTSTAMP:20260423T093545
CREATED:20260217T223829Z
LAST-MODIFIED:20260217T223829Z
UID:2839-1776470400-1776643199@blueknights-ger-xvi.de
SUMMARY:15 Jahre Red Knights Germany VI
DESCRIPTION:Unsere Freunde der Red Knights VI werden 15 – ein Grund zu feiern\, und wir feiern da doch gerne mit\, oder?
URL:https://blueknights-ger-xvi.de/event/15-jahre-red-knights-germany-vi/
LOCATION:Red Knightx VI\, Widau 40\, Schermbeck\, 46514\, Germany
END:VEVENT
BEGIN:VEVENT
DTSTART;TZID=UTC:20260409T180000
DTEND;TZID=UTC:20260409T190000
DTSTAMP:20260423T093545
CREATED:20260125T225346Z
LAST-MODIFIED:20260228T082351Z
UID:2788-1775757600-1775761200@blueknights-ger-xvi.de
SUMMARY:Aprilstammtisch
DESCRIPTION:Der April\, der April\, der macht was er will – und am zweiten Donnerstag trifft er sich auf unserem Stammtisch!
URL:https://blueknights-ger-xvi.de/event/aprilstammtisch-2/
LOCATION:IPA
END:VEVENT
BEGIN:VEVENT
DTSTART;TZID=UTC:20260315T093000
DTEND;TZID=UTC:20260315T170000
DTSTAMP:20260423T093545
CREATED:20260125T225646Z
LAST-MODIFIED:20260125T225646Z
UID:2792-1773567000-1773594000@blueknights-ger-xvi.de
SUMMARY:Frosttour 2026
DESCRIPTION:Werner lädt zur Frosttour – und vielleicht wird’s ja auch gar nicht so kalt. Also: anreisen und losfahren! \nWo es losgeht bekommen wir noch gesagt-man darf gespannt sein!
URL:https://blueknights-ger-xvi.de/event/frosttour-2026/
END:VEVENT
BEGIN:VEVENT
DTSTART;TZID=UTC:20260312T180000
DTEND;TZID=UTC:20260312T190000
DTSTAMP:20260423T093545
CREATED:20260125T225239Z
LAST-MODIFIED:20260125T225239Z
UID:2785-1773338400-1773342000@blueknights-ger-xvi.de
SUMMARY:Märzstammtisch
DESCRIPTION:Der Stammtisch im März – hoffentlich mal mit Temperaturen über 5 Grad!
URL:https://blueknights-ger-xvi.de/event/maerzstammtisch-3/
LOCATION:IPA
END:VEVENT
BEGIN:VEVENT
DTSTART;TZID=UTC:20260207T100000
DTEND;TZID=UTC:20260207T170000
DTSTAMP:20260423T093545
CREATED:20260202T221202Z
LAST-MODIFIED:20260202T221202Z
UID:2818-1770458400-1770483600@blueknights-ger-xvi.de
SUMMARY:Biker Church Ruhr Frühstück
DESCRIPTION:Lassen wir Karin und Dieter sprechen: \nHallo Freunde\, \nam Samstag den 07.02.2026 findet wieder unser nächstes Bikerfrühstück von 10:00 – 12:00 Uhr in den Räumlichkeiten der Gemeinde Essen-Schonnebeck\, Gareisstr. 41\, statt. \nDamit wir alles gut vorbereiten können\, brauchen wir bis Donnerstag den 05.02.2026 eure Anmeldung unter info@biker-church-ruhr.de oder über WhatsApp. \nWir freuen uns auf euch. \n\nBis dahin macht es gut und bleibt gesund. \n\nLiebe Grüße\, Karin und Dieter
URL:https://blueknights-ger-xvi.de/event/biker-church-ruhr-fruehstueck/
ATTACH;FMTTYPE=image/jpeg:https://blueknights-ger-xvi.de/wp-content/uploads/2026/02/image002.jpg
END:VEVENT
BEGIN:VEVENT
DTSTART;TZID=UTC:20260202T080000
DTEND;TZID=UTC:20260202T170000
DTSTAMP:20260423T093545
CREATED:20260202T222113Z
LAST-MODIFIED:20260202T222113Z
UID:2823-1770019200-1770051600@blueknights-ger-xvi.de
SUMMARY:Treffen der BlueKnights Germany VII
DESCRIPTION:Germany VII trifft sich – und so weit ist es nicht\, vielleicht finden sich ja Interessierte für eine kleine Fahrt da hin? \nSchaut bitte in den Flyer für die näheren Anmeldedaten.
URL:https://blueknights-ger-xvi.de/event/treffen-der-blueknights-germany-vii/
LOCATION:BK VII Treffen 2026\, Lambach 1\, Lam\, 93462\, Germany
ATTACH;FMTTYPE=image/jpeg:https://blueknights-ger-xvi.de/wp-content/uploads/2026/02/Einladung-Flyer-Ger7.jpg
END:VEVENT
BEGIN:VEVENT
DTSTART;TZID=UTC:20260117T153000
DTEND;TZID=UTC:20260117T180000
DTSTAMP:20260423T093545
CREATED:20241103T204537Z
LAST-MODIFIED:20251019T160938Z
UID:2534-1768663800-1768672800@blueknights-ger-xvi.de
SUMMARY:Jahreshauptversammlung 2026
DESCRIPTION:Die jährliche Hauptversammlung – kommt alle\, förmliche Einladung folgt noch.
URL:https://blueknights-ger-xvi.de/event/jahreshauptversammlung_2026/
LOCATION:IPA Essen
ATTACH;FMTTYPE=image/png:https://blueknights-ger-xvi.de/wp-content/uploads/2022/10/BK_Logos_04.png
END:VEVENT
BEGIN:VEVENT
DTSTART;TZID=UTC:20251213T170000
DTEND;TZID=UTC:20251213T170000
DTSTAMP:20260423T093545
CREATED:20250131T220247Z
LAST-MODIFIED:20250131T220247Z
UID:2722-1765645200-1765645200@blueknights-ger-xvi.de
SUMMARY:Weihnachtsfeier 2025
DESCRIPTION:Wir feiern Weihnachten – und da es mit dem Motorradfahren da wahrscheinlich eh nichts ist\, können wir uns auch alle in der Burg treffen!
URL:https://blueknights-ger-xvi.de/event/weihnachtsfeier-2025/
LOCATION:IPA Essen
END:VEVENT
BEGIN:VEVENT
DTSTART;TZID=UTC:20251211T180000
DTEND;TZID=UTC:20251211T190000
DTSTAMP:20260423T093545
CREATED:20250105T211625Z
LAST-MODIFIED:20250105T211625Z
UID:2612-1765476000-1765479600@blueknights-ger-xvi.de
SUMMARY:Dezemberstammtisch
DESCRIPTION:Unser Stammtisch im Dezember
URL:https://blueknights-ger-xvi.de/event/dezemberstammtisch/
LOCATION:IPA Essen
END:VEVENT
BEGIN:VEVENT
DTSTART;TZID=UTC:20251113T180000
DTEND;TZID=UTC:20251113T190000
DTSTAMP:20260423T093545
CREATED:20250105T211538Z
LAST-MODIFIED:20250105T211538Z
UID:2610-1763056800-1763060400@blueknights-ger-xvi.de
SUMMARY:Novemberstammtisch
DESCRIPTION:Unser Stammtisch im November
URL:https://blueknights-ger-xvi.de/event/novemberstammtisch/
LOCATION:IPA Essen
END:VEVENT
BEGIN:VEVENT
DTSTART;TZID=UTC:20251009T180000
DTEND;TZID=UTC:20251009T190000
DTSTAMP:20260423T093545
CREATED:20250105T211442Z
LAST-MODIFIED:20250105T211442Z
UID:2608-1760032800-1760036400@blueknights-ger-xvi.de
SUMMARY:Oktoberstammtisch
DESCRIPTION:Unser Stammtisch im Oktober
URL:https://blueknights-ger-xvi.de/event/oktoberstammtisch/
LOCATION:IPA Essen
END:VEVENT
BEGIN:VEVENT
DTSTART;VALUE=DATE:20250926
DTEND;VALUE=DATE:20250929
DTSTAMP:20260423T093545
CREATED:20250105T213904Z
LAST-MODIFIED:20250105T213904Z
UID:2641-1758844800-1759103999@blueknights-ger-xvi.de
SUMMARY:Germany VIII - 30 Jahre
DESCRIPTION:Die Bremer Kollegen werden 30 – und Bremen ist immer eine Reise wert\, oder?
URL:https://blueknights-ger-xvi.de/event/germany-viii-30-jahre/
LOCATION:BK Germany VIII Jubiläum\, Am Jugendhof 17\, Verden\, 27283\, Germany
ATTACH;FMTTYPE=image/jpeg:https://blueknights-ger-xvi.de/wp-content/uploads/2025/01/Ankuendigungsflyer_Meeting_2025_BK_8_-_V2.0.jpg
END:VEVENT
BEGIN:VEVENT
DTSTART;TZID=UTC:20250912T080000
DTEND;TZID=UTC:20250914T170000
DTSTAMP:20260423T093545
CREATED:20231105T221607Z
LAST-MODIFIED:20231105T221607Z
UID:2091-1757664000-1757869200@blueknights-ger-xvi.de
SUMMARY:Belgien VI und Belgien VII feiern gemeinsam
DESCRIPTION:Beide Chapter werden 25 – also feiern sie. Nicht den fünfzigsten\, sondern mit uns!
URL:https://blueknights-ger-xvi.de/event/belgien-vi-und-belgien-vii-feiern-gemeinsam/
LOCATION:BK Belgium VI und VII Jubiläunm\, Middelkerke\, Ostende\, 8483\, Belgien
END:VEVENT
BEGIN:VEVENT
DTSTART;VALUE=DATE:20250912
DTEND;VALUE=DATE:20250915
DTSTAMP:20260423T093545
CREATED:20250131T220353Z
LAST-MODIFIED:20250131T220353Z
UID:2724-1757635200-1757894399@blueknights-ger-xvi.de
SUMMARY:Jahresabschlussfahrt 2025
DESCRIPTION:Unsere Jahresabschlussfahrt – wohin es geht\, werden wir sehen\, freuen uns aber darauf!
URL:https://blueknights-ger-xvi.de/event/jahresabschlussfahrt-2025/
END:VEVENT
BEGIN:VEVENT
DTSTART;VALUE=DATE:20250912
DTEND;VALUE=DATE:20250915
DTSTAMP:20260423T093545
CREATED:20250105T213448Z
LAST-MODIFIED:20250105T213448Z
UID:2634-1757635200-1757894399@blueknights-ger-xvi.de
SUMMARY:BELGIEN VI UND VII\, 25. JAHRESTAG
DESCRIPTION:Beide Belgier feiern 25 – sind also sozusagen 50\, und laden uns ein\, das mit ihnen zu feiern.
URL:https://blueknights-ger-xvi.de/event/belgien-vi-und-vii-25-jahrestag/
LOCATION:BK Belgium 25 Jubiläum\, Middelkerke\, Ostende\, 8483\, Belgium
ATTACH;FMTTYPE=image/jpeg:https://blueknights-ger-xvi.de/wp-content/uploads/2025/01/affiche_OK_001.jpg
END:VEVENT
BEGIN:VEVENT
DTSTART;TZID=UTC:20250911T180000
DTEND;TZID=UTC:20250911T190000
DTSTAMP:20260423T093545
CREATED:20250105T211400Z
LAST-MODIFIED:20250105T211400Z
UID:2606-1757613600-1757617200@blueknights-ger-xvi.de
SUMMARY:Septemberstammtisch
DESCRIPTION:Unser Stammtisch im September
URL:https://blueknights-ger-xvi.de/event/septemberstammtisch/
LOCATION:IPA Essen
END:VEVENT
BEGIN:VEVENT
DTSTART;VALUE=DATE:20250831
DTEND;VALUE=DATE:20250901
DTSTAMP:20260423T093545
CREATED:20250131T215947Z
LAST-MODIFIED:20250131T215948Z
UID:2718-1756598400-1756684799@blueknights-ger-xvi.de
SUMMARY:Kindertrikefahrt 2025
DESCRIPTION:Wie in jedem Jahr – die wichtigste Veranstaltung liegt an\, unserer Kindertrikefahrt! Wir zählen auf unsere vollständige Unterstützung.
URL:https://blueknights-ger-xvi.de/event/kindertrikefahrt-2025/
LOCATION:IPA Essen
ATTACH;FMTTYPE=image/jpeg:https://blueknights-ger-xvi.de/wp-content/uploads/2023/08/WhatsApp-Image-2023-08-20-at-17.42.39.jpeg
END:VEVENT
BEGIN:VEVENT
DTSTART;TZID=UTC:20250829T080000
DTEND;TZID=UTC:20250831T170000
DTSTAMP:20260423T093545
CREATED:20231105T221301Z
LAST-MODIFIED:20231105T234312Z
UID:2086-1756454400-1756659600@blueknights-ger-xvi.de
SUMMARY:Die 23er werden 23
DESCRIPTION:Das Chapter 23 feiert seinen 23. – und wir sollten uns das vormerken. Es ist zwar nicht lange hin\, aber weit ist es nicht zum Jugend-\, Bildungs- und Freizeitzentrum in Obernkirch. Eine fahrt ins Sauerland\, die ist inklusive. Und wenn man dann am Ankunftsort Freunde trifft\, kann es doch besser nicht werden.
URL:https://blueknights-ger-xvi.de/event/die-23er-werden-23/
LOCATION:BK Germany XXIII\, Bückeberg 1\, Obernkirch\, 31683\, Deutschland
END:VEVENT
BEGIN:VEVENT
DTSTART;VALUE=DATE:20250829
DTEND;VALUE=DATE:20250901
DTSTAMP:20260423T093545
CREATED:20250105T213230Z
LAST-MODIFIED:20250105T213230Z
UID:2630-1756425600-1756684799@blueknights-ger-xvi.de
SUMMARY:23 Jahre 23er
DESCRIPTION:Die 23er werden 23 – und weil 16 fas 2/3 von 23 sind\, sollten wir gut überlegen\, ob wir mit weniger als der Hälfte da hinfahren sollten.
URL:https://blueknights-ger-xvi.de/event/23-jahre-23er/
LOCATION:23 Meeting Rinteln\, Waldkaterallee 13\, Rinteln\, 317373\, Germany
ATTACH;FMTTYPE=image/jpeg:https://blueknights-ger-xvi.de/wp-content/uploads/2025/01/Einladung-Meeting-2025-Deutsch-70.jpg
END:VEVENT
BEGIN:VEVENT
DTSTART;TZID=UTC:20250814T180000
DTEND;TZID=UTC:20250814T190000
DTSTAMP:20260423T093545
CREATED:20250105T211322Z
LAST-MODIFIED:20250105T211322Z
UID:2604-1755194400-1755198000@blueknights-ger-xvi.de
SUMMARY:Auguststammtisch
DESCRIPTION:Unser Stammtisch im August
URL:https://blueknights-ger-xvi.de/event/auguststammtisch/
LOCATION:IPA Essen
END:VEVENT
BEGIN:VEVENT
DTSTART;VALUE=DATE:20250808
DTEND;VALUE=DATE:20250811
DTSTAMP:20260423T093545
CREATED:20250105T212856Z
LAST-MODIFIED:20250105T212856Z
UID:2625-1754611200-1754870399@blueknights-ger-xvi.de
SUMMARY:KNIGHTROCK der 34er
DESCRIPTION:Die 34er feiern im herrlichen August den Knightrock – Roll on or get off!
URL:https://blueknights-ger-xvi.de/event/knightrock-der-34er/
LOCATION:BK Germany XXXIV Knightrock\, Unter den Eichen 14\, Celle\, 29229\, Germany
ATTACH;FMTTYPE=image/jpeg:https://blueknights-ger-xvi.de/wp-content/uploads/2025/01/KnightRock_2025_Flyer2-min.jpg
END:VEVENT
BEGIN:VEVENT
DTSTART;VALUE=DATE:20250711
DTEND;VALUE=DATE:20250714
DTSTAMP:20260423T093545
CREATED:20250105T212606Z
LAST-MODIFIED:20250105T212606Z
UID:2622-1752192000-1752451199@blueknights-ger-xvi.de
SUMMARY:11 Jahre BK GER 36
DESCRIPTION:Unsere Freunde in Sonthofen werden 11 – na\, da ist man doch dabei\, oder?
URL:https://blueknights-ger-xvi.de/event/11-jahre-bk-ger-36/
LOCATION:BK Germany XXXVI\, Mühlenweg 13\, Sonthofen\, 87527\, Germany
END:VEVENT
BEGIN:VEVENT
DTSTART;TZID=UTC:20250710T180000
DTEND;TZID=UTC:20250710T190000
DTSTAMP:20260423T093545
CREATED:20250105T211237Z
LAST-MODIFIED:20250105T211237Z
UID:2602-1752170400-1752174000@blueknights-ger-xvi.de
SUMMARY:Julistammtisch
DESCRIPTION:Unser Stammtisch im Juli
URL:https://blueknights-ger-xvi.de/event/julistammtisch/
LOCATION:IPA Essen
END:VEVENT
BEGIN:VEVENT
DTSTART;VALUE=DATE:20250705
DTEND;VALUE=DATE:20250706
DTSTAMP:20260423T093545
CREATED:20250520T205304Z
LAST-MODIFIED:20250520T205304Z
UID:2736-1751673600-1751759999@blueknights-ger-xvi.de
SUMMARY:Biker-Treffen der Biker in der Bundespolizei
DESCRIPTION:Die BiBs laden zum Biker-Treffen unf haben für uns ein ganz besonderes Angebot im Tank – höret\, was Woody und Kat uns offerieren: \nDa wir zum Treffen Freunde aus den Niederlanden bei uns beherbergen werden\, werde ich eine extra Tour führen\, die dann bei uns in Hamm/Sieg endet.\n\nWir fahren Abends mit dem Auto runter nach Sankt Augustin. Wenn sich 16er ankündigen\, fahre ich auch gerne eine nördliche Tour bis in die Gegend von Wipperfürth\, dann ist der weg ins Ruhrgebiet nicht so weit.\n\nNa\, wenn das nichts ist! Also: anmelden!
URL:https://blueknights-ger-xvi.de/event/biker-treffen-der-biker-in-der-bundespolizei/
LOCATION:Schützenhaus Hangelar\, Kappellenstraße 2a\, Hangelar\, 53757\, Germany
ATTACH;FMTTYPE=image/jpeg:https://blueknights-ger-xvi.de/wp-content/uploads/2025/05/handzettel_2025_a5_druckerei-1.jpg
END:VEVENT
BEGIN:VEVENT
DTSTART;TZID=UTC:20250619T080000
DTEND;TZID=UTC:20250622T170000
DTSTAMP:20260423T093545
CREATED:20250119T155719Z
LAST-MODIFIED:20250119T155719Z
UID:2084-1750320000-1750611600@blueknights-ger-xvi.de
SUMMARY:European Conferencence 2025
DESCRIPTION:Nun\, die EC in Mittelfranken steht an. \nDer Vorstand des BK Germany XIV weist darauf hin\, dass getätigte Buchungen bzw. Überweisungen ab dem 01.03.2025 nicht mehr zurückgezahlt werden können. \nWeiter\, dass bei getätigten Buchungen bzw. Überweisungen welche bis zum 28.02.2025 storniert werden\, in jedem Fall eine Unkostenpauschale von 100€ pro Person einbehalten werden muss. \nBitte kümmert euch um eine dementsprechende Reiserücktrittsversicherung. \n  \nThe Board of BK Germany XIV points out that bookings or transfers made can no longer be repaid from 01.03.2025.\nFurthermore\, that for bookings or transfers made that are cancelled by 28.02.2025\, a sum of 100€ per person must be retained in any case. \nPlease take care of an appropriate travel cancellation insurance. \nIm Preis für die Buchung sind die Inklusivleistungen wie im Programmflyer beschrieben enthalten: \n  \nThe booking price includes the inclusive services as described in the program flyer: \nBooked Accommodations – Three Dinners – Leather Beer – Shuttleservice – Live Music on Thursday & Saturday -Convention-Patch – Convention T-Shirt – Historical Railway – Camping Pitches \n 
URL:https://blueknights-ger-xvi.de/event/european-conferencence-2025/
LOCATION:EC 25 BK GER 14\, Behringersmühle 8\, Gößweinstraße\, 91327\, Germany
ATTACH;FMTTYPE=application/pdf:https://blueknights-ger-xvi.de/wp-content/uploads/2025/01/Programmflyer-.pdf
END:VEVENT
BEGIN:VEVENT
DTSTART;VALUE=DATE:20250619
DTEND;VALUE=DATE:20250623
DTSTAMP:20260423T093545
CREATED:20250105T212310Z
LAST-MODIFIED:20250105T212311Z
UID:2618-1750291200-1750636799@blueknights-ger-xvi.de
SUMMARY:European Congress 2025
DESCRIPTION:Die – oder der – EC steht dieses Jahr in Belgien an.
URL:https://blueknights-ger-xvi.de/event/european-congress-2025/
LOCATION:EC 2025\, Postelsesteenweg 100\, Mol\, 2400\, Belgium
ATTACH;FMTTYPE=image/png:https://blueknights-ger-xvi.de/wp-content/uploads/2025/01/Patch.png
END:VEVENT
BEGIN:VEVENT
DTSTART;TZID=UTC:20250613T080000
DTEND;TZID=UTC:20250615T170000
DTSTAMP:20260423T093545
CREATED:20231105T220757Z
LAST-MODIFIED:20231105T220757Z
UID:2080-1749801600-1750006800@blueknights-ger-xvi.de
SUMMARY:BK 25 - 25. Jubiläum
DESCRIPTION:Das Chapter 25 wird 25 – wir sollten uns das vormerken\, weit scheint es nicht zu sein.
URL:https://blueknights-ger-xvi.de/event/bk-25-25-jubilaeum/
LOCATION:Bik 25 Jubiläum\, Bischof-Janssen-Straße 1\, Duderstadt\, 37115\, Deutschland
CATEGORIES:Clubtreffen
END:VEVENT
BEGIN:VEVENT
DTSTART;TZID=UTC:20250612T180000
DTEND;TZID=UTC:20250612T190000
DTSTAMP:20260423T093545
CREATED:20250105T211142Z
LAST-MODIFIED:20250105T211142Z
UID:2600-1749751200-1749754800@blueknights-ger-xvi.de
SUMMARY:Junistammtisch
DESCRIPTION:Unser Stammtisch im Juni
URL:https://blueknights-ger-xvi.de/event/junistammtisch/
LOCATION:IPA Essen
END:VEVENT
BEGIN:VEVENT
DTSTART;VALUE=DATE:20250523
DTEND;VALUE=DATE:20250526
DTSTAMP:20260423T093545
CREATED:20250105T211912Z
LAST-MODIFIED:20250105T211912Z
UID:2614-1747958400-1748217599@blueknights-ger-xvi.de
SUMMARY:BK ENG III – ÜBER DIE MAUER-RALLYE
DESCRIPTION:England III macht eine Rallye um die Mauer herum – hmm\, ist das nicht eher was für uns? Na ja\, wir können ja mal schauen\, was sie damit meinen und uns da anmelden!
URL:https://blueknights-ger-xvi.de/event/bk-eng-iii-ueber-die-mauer-rallye/
LOCATION:England III\, Kings Avenue\, SR6 8DE\, Sunderland\, United Kingdom
ATTACH;FMTTYPE=image/jpeg:https://blueknights-ger-xvi.de/wp-content/uploads/2025/01/Eng_III_Meeting_23_25_May_2025.jpg
END:VEVENT
BEGIN:VEVENT
DTSTART;TZID=UTC:20250515T080000
DTEND;TZID=UTC:20250515T170000
DTSTAMP:20260423T093545
CREATED:20250105T211056Z
LAST-MODIFIED:20250415T200241Z
UID:2598-1747296000-1747328400@blueknights-ger-xvi.de
SUMMARY:Maistammtisch
DESCRIPTION:Unser Stammtisch im Mai
URL:https://blueknights-ger-xvi.de/event/maistammtisch/
LOCATION:IPA Essen
END:VEVENT
END:VCALENDAR