BEGIN:VCALENDAR
VERSION:2.0
PRODID:-//Homepage der Blue Knights XVI Germany e.V. - ECPv6.15.20//NONSGML v1.0//EN
CALSCALE:GREGORIAN
METHOD:PUBLISH
X-WR-CALNAME:Homepage der Blue Knights XVI Germany e.V.
X-ORIGINAL-URL:https://blueknights-ger-xvi.de
X-WR-CALDESC:Veranstaltungen für Homepage der Blue Knights XVI Germany e.V.
REFRESH-INTERVAL;VALUE=DURATION:PT1H
X-Robots-Tag:noindex
X-PUBLISHED-TTL:PT1H
BEGIN:VTIMEZONE
TZID:UTC
BEGIN:STANDARD
TZOFFSETFROM:+0000
TZOFFSETTO:+0000
TZNAME:UTC
DTSTART:20250101T000000
END:STANDARD
END:VTIMEZONE
BEGIN:VEVENT
DTSTART;VALUE=DATE:20260910
DTEND;VALUE=DATE:20260914
DTSTAMP:20260423T191258
CREATED:20260125T222021Z
LAST-MODIFIED:20260125T222021Z
UID:2772-1788998400-1789343999@blueknights-ger-xvi.de
SUMMARY:Jahresabschlussfahrt
DESCRIPTION:Das Jahr endet zwar nicht im September\, aber unsere Abschlussfahrt in den Westerwald! Merkt euch den Termin vor\, besser wird es in 2026 möglicherweise nicht mehr!
URL:https://blueknights-ger-xvi.de/event/jahresabschlussfahrt/
END:VEVENT
BEGIN:VEVENT
DTSTART;TZID=UTC:20260910T180000
DTEND;TZID=UTC:20260910T190000
DTSTAMP:20260423T191258
CREATED:20260125T230045Z
LAST-MODIFIED:20260125T230045Z
UID:2800-1789063200-1789066800@blueknights-ger-xvi.de
SUMMARY:Septemberstammtisch
DESCRIPTION:Der Septemberstammtisch kollidiert klassisch mit unserer Abschlussfahrt – vielleicht finden sich aber dennoch die einen oder anderen\, die zuhause bleiben!
URL:https://blueknights-ger-xvi.de/event/septemberstammtisch-2/
LOCATION:IPA Essen
END:VEVENT
END:VCALENDAR