BEGIN:VCALENDAR
VERSION:2.0
PRODID:-//Homepage der Blue Knights XVI Germany e.V. - ECPv6.15.20//NONSGML v1.0//EN
CALSCALE:GREGORIAN
METHOD:PUBLISH
X-WR-CALNAME:Homepage der Blue Knights XVI Germany e.V.
X-ORIGINAL-URL:https://blueknights-ger-xvi.de
X-WR-CALDESC:Veranstaltungen für Homepage der Blue Knights XVI Germany e.V.
REFRESH-INTERVAL;VALUE=DURATION:PT1H
X-Robots-Tag:noindex
X-PUBLISHED-TTL:PT1H
BEGIN:VTIMEZONE
TZID:UTC
BEGIN:STANDARD
TZOFFSETFROM:+0000
TZOFFSETTO:+0000
TZNAME:UTC
DTSTART:20250101T000000
END:STANDARD
END:VTIMEZONE
BEGIN:VEVENT
DTSTART;VALUE=DATE:20260813
DTEND;VALUE=DATE:20260817
DTSTAMP:20260423T180048
CREATED:20260125T221205Z
LAST-MODIFIED:20260125T221205Z
UID:2768-1786579200-1786924799@blueknights-ger-xvi.de
SUMMARY:Blue Knights Sweden I 35th Anniversary
DESCRIPTION:Wer ohnehin kurz in Schweden zu tun hat\, schaut am besten bei der 35-Jahrfeier von Schweden I vorbei. Und alle anderen haben einen wunderbaren Urlaub im Land der Elche!
URL:https://blueknights-ger-xvi.de/event/blue-knights-sweden-i-35th-anniversary/
LOCATION:Schweden 35 2026\, Mullsjö
ATTACH;FMTTYPE=application/pdf:https://blueknights-ger-xvi.de/wp-content/uploads/2026/01/Inbjudan_jubileum_2026_DE.pdf
END:VEVENT
END:VCALENDAR