BEGIN:VCALENDAR
VERSION:2.0
PRODID:-//Homepage der Blue Knights XVI Germany e.V. - ECPv6.15.20//NONSGML v1.0//EN
CALSCALE:GREGORIAN
METHOD:PUBLISH
X-ORIGINAL-URL:https://blueknights-ger-xvi.de
X-WR-CALDESC:Veranstaltungen für Homepage der Blue Knights XVI Germany e.V.
REFRESH-INTERVAL;VALUE=DURATION:PT1H
X-Robots-Tag:noindex
X-PUBLISHED-TTL:PT1H
BEGIN:VTIMEZONE
TZID:UTC
BEGIN:STANDARD
TZOFFSETFROM:+0000
TZOFFSETTO:+0000
TZNAME:UTC
DTSTART:20250101T000000
END:STANDARD
END:VTIMEZONE
BEGIN:VEVENT
DTSTART;VALUE=DATE:20260710
DTEND;VALUE=DATE:20260713
DTSTAMP:20260423T163516
CREATED:20260217T222828Z
LAST-MODIFIED:20260217T222828Z
UID:2833-1783641600-1783900799@blueknights-ger-xvi.de
SUMMARY:International Meeting Germany VII
DESCRIPTION:Unsere bayrischen Kollegen von Germany VII laden ein – der Weg ist weit\, aber es lohnt sich! Näheres auf der Homepage!
URL:https://blueknights-ger-xvi.de/event/international-meeting-germany-vii/
LOCATION:BK Germany VII\, Lambach 1\, Lam\, 93462
CATEGORIES:Clubtreffen
ATTACH;FMTTYPE=image/jpeg:https://blueknights-ger-xvi.de/wp-content/uploads/2026/02/Einladung-Flyer-Ger7-1.jpg
END:VEVENT
END:VCALENDAR