BEGIN:VCALENDAR
VERSION:2.0
PRODID:-//Homepage der Blue Knights XVI Germany e.V. - ECPv6.15.20//NONSGML v1.0//EN
CALSCALE:GREGORIAN
METHOD:PUBLISH
X-WR-CALNAME:Homepage der Blue Knights XVI Germany e.V.
X-ORIGINAL-URL:https://blueknights-ger-xvi.de
X-WR-CALDESC:Veranstaltungen für Homepage der Blue Knights XVI Germany e.V.
REFRESH-INTERVAL;VALUE=DURATION:PT1H
X-Robots-Tag:noindex
X-PUBLISHED-TTL:PT1H
BEGIN:VTIMEZONE
TZID:UTC
BEGIN:STANDARD
TZOFFSETFROM:+0000
TZOFFSETTO:+0000
TZNAME:UTC
DTSTART:20250101T000000
END:STANDARD
END:VTIMEZONE
BEGIN:VEVENT
DTSTART;TZID=UTC:20260709T180000
DTEND;TZID=UTC:20260709T190000
DTSTAMP:20260423T163428
CREATED:20260125T225824Z
LAST-MODIFIED:20260125T225824Z
UID:2796-1783620000-1783623600@blueknights-ger-xvi.de
SUMMARY:Julistammtisch
DESCRIPTION:Unser Stammtisch im Juli – hoffentlich werden es nur heisse Gespräche!
URL:https://blueknights-ger-xvi.de/event/julistammtisch-2/
LOCATION:IPA Essen
END:VEVENT
END:VCALENDAR