BEGIN:VCALENDAR
VERSION:2.0
PRODID:-//Homepage der Blue Knights XVI Germany e.V. - ECPv6.15.20//NONSGML v1.0//EN
CALSCALE:GREGORIAN
METHOD:PUBLISH
X-WR-CALNAME:Homepage der Blue Knights XVI Germany e.V.
X-ORIGINAL-URL:https://blueknights-ger-xvi.de
X-WR-CALDESC:Veranstaltungen für Homepage der Blue Knights XVI Germany e.V.
REFRESH-INTERVAL;VALUE=DURATION:PT1H
X-Robots-Tag:noindex
X-PUBLISHED-TTL:PT1H
BEGIN:VTIMEZONE
TZID:UTC
BEGIN:STANDARD
TZOFFSETFROM:+0000
TZOFFSETTO:+0000
TZNAME:UTC
DTSTART:20250101T000000
END:STANDARD
END:VTIMEZONE
BEGIN:VEVENT
DTSTART;TZID=UTC:20260503T110000
DTEND;TZID=UTC:20260503T170000
DTSTAMP:20260423T121302
CREATED:20260125T224453Z
LAST-MODIFIED:20260125T224453Z
UID:2781-1777806000-1777827600@blueknights-ger-xvi.de
SUMMARY:Bikertag des PP Essen 2026
DESCRIPTION:Das PP Essen hält am Haus Scheppen auch dieses Jahr wieder den “Bikertag” ab – und da wollen wir doch dabei sein\, oder?
URL:https://blueknights-ger-xvi.de/event/bikertag-des-pp-essen-2026/
LOCATION:Haus Scheppen\, Hardenbergufer 389\, Essen\, 45239\, Deutschland
END:VEVENT
END:VCALENDAR